BEGIN:VCALENDAR
VERSION:2.0
PRODID:-//Prep At Home LLC - ECPv6.15.20//NONSGML v1.0//EN
CALSCALE:GREGORIAN
METHOD:PUBLISH
X-ORIGINAL-URL:https://prepathome.com
X-WR-CALDESC:Events for Prep At Home LLC
REFRESH-INTERVAL;VALUE=DURATION:PT1H
X-Robots-Tag:noindex
X-PUBLISHED-TTL:PT1H
BEGIN:VTIMEZONE
TZID:America/Denver
BEGIN:DAYLIGHT
TZOFFSETFROM:-0700
TZOFFSETTO:-0600
TZNAME:MDT
DTSTART:20240310T090000
END:DAYLIGHT
BEGIN:STANDARD
TZOFFSETFROM:-0600
TZOFFSETTO:-0700
TZNAME:MST
DTSTART:20241103T080000
END:STANDARD
BEGIN:DAYLIGHT
TZOFFSETFROM:-0700
TZOFFSETTO:-0600
TZNAME:MDT
DTSTART:20250309T090000
END:DAYLIGHT
BEGIN:STANDARD
TZOFFSETFROM:-0600
TZOFFSETTO:-0700
TZNAME:MST
DTSTART:20251102T080000
END:STANDARD
BEGIN:DAYLIGHT
TZOFFSETFROM:-0700
TZOFFSETTO:-0600
TZNAME:MDT
DTSTART:20260308T090000
END:DAYLIGHT
BEGIN:STANDARD
TZOFFSETFROM:-0600
TZOFFSETTO:-0700
TZNAME:MST
DTSTART:20261101T080000
END:STANDARD
END:VTIMEZONE
BEGIN:VEVENT
DTSTART;VALUE=DATE:20250803
DTEND;VALUE=DATE:20250804
DTSTAMP:20260425T043733
CREATED:20250804T150544Z
LAST-MODIFIED:20250804T150544Z
UID:10000169-1754179200-1754265599@prepathome.com
SUMMARY:OKC\, Oklahoma
DESCRIPTION:
URL:https://prepathome.com/event/okc-oklahoma-12/
LOCATION:PrepAtHome 9300 S Pennsylvania Ave #G Oklahoma City\, OK 73159\, 9300 S Pennsylvania Ave #G Oklahoma City\, OK 73159\, OKC\, OK\, United States
END:VEVENT
BEGIN:VEVENT
DTSTART;VALUE=DATE:20250802
DTEND;VALUE=DATE:20250803
DTSTAMP:20260425T043733
CREATED:20250804T150451Z
LAST-MODIFIED:20250804T150451Z
UID:10000168-1754092800-1754179199@prepathome.com
SUMMARY:OKC\, Oklahoma
DESCRIPTION:
URL:https://prepathome.com/event/okc-oklahoma-11/
LOCATION:PrepAtHome 9300 S Pennsylvania Ave #G Oklahoma City\, OK 73159\, 9300 S Pennsylvania Ave #G Oklahoma City\, OK 73159\, OKC\, OK\, United States
END:VEVENT
BEGIN:VEVENT
DTSTART;VALUE=DATE:20250728
DTEND;VALUE=DATE:20250729
DTSTAMP:20260425T043733
CREATED:20250710T090549Z
LAST-MODIFIED:20250710T090549Z
UID:10000157-1753660800-1753747199@prepathome.com
SUMMARY:OKC\, Oklahoma
DESCRIPTION:
URL:https://prepathome.com/event/okc-oklahoma-10/
LOCATION:PrepAtHome 9300 S Pennsylvania Ave #G Oklahoma City\, OK 73159\, 9300 S Pennsylvania Ave #G Oklahoma City\, OK 73159\, OKC\, OK\, United States
END:VEVENT
BEGIN:VEVENT
DTSTART;VALUE=DATE:20250719
DTEND;VALUE=DATE:20250720
DTSTAMP:20260425T043733
CREATED:20250710T090503Z
LAST-MODIFIED:20250710T090503Z
UID:10000156-1752883200-1752969599@prepathome.com
SUMMARY:OKC\, Oklahoma
DESCRIPTION:
URL:https://prepathome.com/event/okc-oklahoma-9/
LOCATION:PrepAtHome 9300 S Pennsylvania Ave #G Oklahoma City\, OK 73159\, 9300 S Pennsylvania Ave #G Oklahoma City\, OK 73159\, OKC\, OK\, United States
END:VEVENT
BEGIN:VEVENT
DTSTART;VALUE=DATE:20250713
DTEND;VALUE=DATE:20250714
DTSTAMP:20260425T043733
CREATED:20250710T083024Z
LAST-MODIFIED:20250710T083024Z
UID:10000155-1752364800-1752451199@prepathome.com
SUMMARY:OKC\, Oklahoma
DESCRIPTION:
URL:https://prepathome.com/event/okc-oklahoma-8/
LOCATION:PrepAtHome 9300 S Pennsylvania Ave #G Oklahoma City\, OK 73159\, 9300 S Pennsylvania Ave #G Oklahoma City\, OK 73159\, OKC\, OK\, United States
END:VEVENT
BEGIN:VEVENT
DTSTART;VALUE=DATE:20250712
DTEND;VALUE=DATE:20250713
DTSTAMP:20260425T043733
CREATED:20250710T082944Z
LAST-MODIFIED:20250710T082944Z
UID:10000154-1752278400-1752364799@prepathome.com
SUMMARY:OKC\, Oklahoma
DESCRIPTION:
URL:https://prepathome.com/event/okc-oklahoma-7/
LOCATION:PrepAtHome 9300 S Pennsylvania Ave #G Oklahoma City\, OK 73159\, 9300 S Pennsylvania Ave #G Oklahoma City\, OK 73159\, OKC\, OK\, United States
END:VEVENT
BEGIN:VEVENT
DTSTART;VALUE=DATE:20250629
DTEND;VALUE=DATE:20250630
DTSTAMP:20260425T043733
CREATED:20250618T083440Z
LAST-MODIFIED:20250618T083440Z
UID:10000146-1751155200-1751241599@prepathome.com
SUMMARY:OKC\, Oklahoma
DESCRIPTION:
URL:https://prepathome.com/event/okc-oklahoma-6/
LOCATION:PrepAtHome 9300 S Pennsylvania Ave #G Oklahoma City\, OK 73159\, 9300 S Pennsylvania Ave #G Oklahoma City\, OK 73159\, OKC\, OK\, United States
END:VEVENT
BEGIN:VEVENT
DTSTART;VALUE=DATE:20250628
DTEND;VALUE=DATE:20250629
DTSTAMP:20260425T043733
CREATED:20250618T083336Z
LAST-MODIFIED:20250618T083404Z
UID:10000145-1751068800-1751155199@prepathome.com
SUMMARY:OKC\, Oklahoma
DESCRIPTION:
URL:https://prepathome.com/event/okc-oklahoma-duplicate/
LOCATION:PrepAtHome 9300 S Pennsylvania Ave #G Oklahoma City\, OK 73159\, 9300 S Pennsylvania Ave #G Oklahoma City\, OK 73159\, OKC\, OK\, United States
END:VEVENT
BEGIN:VEVENT
DTSTART;VALUE=DATE:20250622
DTEND;VALUE=DATE:20250623
DTSTAMP:20260425T043733
CREATED:20250618T083301Z
LAST-MODIFIED:20250618T083301Z
UID:10000144-1750550400-1750636799@prepathome.com
SUMMARY:OKC\, Oklahoma
DESCRIPTION:
URL:https://prepathome.com/event/okc-oklahoma-5/
LOCATION:PrepAtHome 9300 S Pennsylvania Ave #G Oklahoma City\, OK 73159\, 9300 S Pennsylvania Ave #G Oklahoma City\, OK 73159\, OKC\, OK\, United States
END:VEVENT
BEGIN:VEVENT
DTSTART;VALUE=DATE:20250621
DTEND;VALUE=DATE:20250622
DTSTAMP:20260425T043733
CREATED:20250618T083152Z
LAST-MODIFIED:20250618T083152Z
UID:10000143-1750464000-1750550399@prepathome.com
SUMMARY:OKC\, Oklahoma
DESCRIPTION:
URL:https://prepathome.com/event/okc-oklahoma-4/
LOCATION:PrepAtHome 9300 S Pennsylvania Ave #G Oklahoma City\, OK 73159\, 9300 S Pennsylvania Ave #G Oklahoma City\, OK 73159\, OKC\, OK\, United States
END:VEVENT
BEGIN:VEVENT
DTSTART;VALUE=DATE:20250601
DTEND;VALUE=DATE:20250602
DTSTAMP:20260425T043733
CREATED:20250502T145549Z
LAST-MODIFIED:20250505T102725Z
UID:10000125-1748736000-1748822399@prepathome.com
SUMMARY:OKC\, Oklahoma
DESCRIPTION:
URL:https://prepathome.com/event/prepathome-9300-s-pennsylvania-ave-g-oklahoma-city-ok-73159-3/
LOCATION:PrepAtHome 9300 S Pennsylvania Ave #G Oklahoma City\, OK 73159\, 9300 S Pennsylvania Ave #G Oklahoma City\, OK 73159\, OKC\, OK\, United States
END:VEVENT
BEGIN:VEVENT
DTSTART;VALUE=DATE:20250531
DTEND;VALUE=DATE:20250601
DTSTAMP:20260425T043733
CREATED:20250505T102708Z
LAST-MODIFIED:20250505T102708Z
UID:10000140-1748649600-1748735999@prepathome.com
SUMMARY:OKC\, Oklahoma
DESCRIPTION:
URL:https://prepathome.com/event/okc-oklahoma-3/
LOCATION:PrepAtHome 9300 S Pennsylvania Ave #G Oklahoma City\, OK 73159\, 9300 S Pennsylvania Ave #G Oklahoma City\, OK 73159\, OKC\, OK\, United States
END:VEVENT
BEGIN:VEVENT
DTSTART;VALUE=DATE:20250518
DTEND;VALUE=DATE:20250519
DTSTAMP:20260425T043733
CREATED:20250505T102610Z
LAST-MODIFIED:20250507T032417Z
UID:10000139-1747526400-1747612799@prepathome.com
SUMMARY:OKC\, Oklahoma
DESCRIPTION:
URL:https://prepathome.com/event/okc-oklahoma-2/
LOCATION:PrepAtHome 9300 S Pennsylvania Ave #G Oklahoma City\, OK 73159\, 9300 S Pennsylvania Ave #G Oklahoma City\, OK 73159\, OKC\, OK\, United States
END:VEVENT
BEGIN:VEVENT
DTSTART;VALUE=DATE:20250517
DTEND;VALUE=DATE:20250518
DTSTAMP:20260425T043733
CREATED:20250502T145517Z
LAST-MODIFIED:20250505T102603Z
UID:10000124-1747440000-1747526399@prepathome.com
SUMMARY:OKC\, Oklahoma
DESCRIPTION:
URL:https://prepathome.com/event/prepathome-9300-s-pennsylvania-ave-g-oklahoma-city-ok-73159-2/
LOCATION:PrepAtHome 9300 S Pennsylvania Ave #G Oklahoma City\, OK 73159\, 9300 S Pennsylvania Ave #G Oklahoma City\, OK 73159\, OKC\, OK\, United States
END:VEVENT
BEGIN:VEVENT
DTSTART;VALUE=DATE:20250511
DTEND;VALUE=DATE:20250512
DTSTAMP:20260425T043733
CREATED:20250505T102401Z
LAST-MODIFIED:20250505T102448Z
UID:10000138-1746921600-1747007999@prepathome.com
SUMMARY:OKC\, Oklahoma
DESCRIPTION:
URL:https://prepathome.com/event/okc-oklahoma/
LOCATION:PrepAtHome 9300 S Pennsylvania Ave #G Oklahoma City\, OK 73159\, 9300 S Pennsylvania Ave #G Oklahoma City\, OK 73159\, OKC\, OK\, United States
END:VEVENT
BEGIN:VEVENT
DTSTART;VALUE=DATE:20250510
DTEND;VALUE=DATE:20250511
DTSTAMP:20260425T043733
CREATED:20250502T145340Z
LAST-MODIFIED:20250505T102247Z
UID:10000122-1746835200-1746921599@prepathome.com
SUMMARY:OKC\, Oklahoma
DESCRIPTION:
URL:https://prepathome.com/event/prepathome-9300-s-pennsylvania-ave-g-oklahoma-city-ok-73159/
LOCATION:PrepAtHome 9300 S Pennsylvania Ave #G Oklahoma City\, OK 73159\, 9300 S Pennsylvania Ave #G Oklahoma City\, OK 73159\, OKC\, OK\, United States
END:VEVENT
END:VCALENDAR