BEGIN:VCALENDAR
VERSION:2.0
PRODID:-//Prep At Home LLC - ECPv6.15.20//NONSGML v1.0//EN
CALSCALE:GREGORIAN
METHOD:PUBLISH
X-ORIGINAL-URL:https://prepathome.com
X-WR-CALDESC:Events for Prep At Home LLC
REFRESH-INTERVAL;VALUE=DURATION:PT1H
X-Robots-Tag:noindex
X-PUBLISHED-TTL:PT1H
BEGIN:VTIMEZONE
TZID:America/Denver
BEGIN:DAYLIGHT
TZOFFSETFROM:-0700
TZOFFSETTO:-0600
TZNAME:MDT
DTSTART:20230312T090000
END:DAYLIGHT
BEGIN:STANDARD
TZOFFSETFROM:-0600
TZOFFSETTO:-0700
TZNAME:MST
DTSTART:20231105T080000
END:STANDARD
BEGIN:DAYLIGHT
TZOFFSETFROM:-0700
TZOFFSETTO:-0600
TZNAME:MDT
DTSTART:20240310T090000
END:DAYLIGHT
BEGIN:STANDARD
TZOFFSETFROM:-0600
TZOFFSETTO:-0700
TZNAME:MST
DTSTART:20241103T080000
END:STANDARD
BEGIN:DAYLIGHT
TZOFFSETFROM:-0700
TZOFFSETTO:-0600
TZNAME:MDT
DTSTART:20250309T090000
END:DAYLIGHT
BEGIN:STANDARD
TZOFFSETFROM:-0600
TZOFFSETTO:-0700
TZNAME:MST
DTSTART:20251102T080000
END:STANDARD
BEGIN:DAYLIGHT
TZOFFSETFROM:-0700
TZOFFSETTO:-0600
TZNAME:MDT
DTSTART:20260308T090000
END:DAYLIGHT
BEGIN:STANDARD
TZOFFSETFROM:-0600
TZOFFSETTO:-0700
TZNAME:MST
DTSTART:20261101T080000
END:STANDARD
END:VTIMEZONE
BEGIN:VEVENT
DTSTART;TZID=America/Denver:20250427T080000
DTEND;TZID=America/Denver:20250427T170000
DTSTAMP:20260423T041522
CREATED:20250122T094519Z
LAST-MODIFIED:20250122T094519Z
UID:10000112-1745740800-1745773200@prepathome.com
SUMMARY:PrepAtHome Electricians Houston\, Texas
DESCRIPTION:
URL:https://prepathome.com/event/prepathome-electricians-houston-texas-15/
LOCATION:PrepAtHome 650 N Sam Houston Pkwy E\, Houston\, TX 77060\, 650 N Sam Houston Pkwy E #110\, Houston\, TX\, 77060\, United States
END:VEVENT
BEGIN:VEVENT
DTSTART;TZID=America/Denver:20250413T080000
DTEND;TZID=America/Denver:20250413T170000
DTSTAMP:20260423T041522
CREATED:20250122T094411Z
LAST-MODIFIED:20250122T094411Z
UID:10000111-1744531200-1744563600@prepathome.com
SUMMARY:PrepAtHome ACR Contractors Houston\, Texas
DESCRIPTION:
URL:https://prepathome.com/event/prepathome-acr-contractors-houston-texas-8/
LOCATION:PrepAtHome 650 N Sam Houston Pkwy E\, Houston\, TX 77060\, 650 N Sam Houston Pkwy E #110\, Houston\, TX\, 77060\, United States
END:VEVENT
BEGIN:VEVENT
DTSTART;TZID=America/Denver:20250412T080000
DTEND;TZID=America/Denver:20250412T170000
DTSTAMP:20260423T041522
CREATED:20250122T094311Z
LAST-MODIFIED:20250122T094311Z
UID:10000110-1744444800-1744477200@prepathome.com
SUMMARY:PrepAtHome Electricians Houston\, Texas
DESCRIPTION:
URL:https://prepathome.com/event/prepathome-electricians-houston-texas-14/
LOCATION:PrepAtHome 650 N Sam Houston Pkwy E\, Houston\, TX 77060\, 650 N Sam Houston Pkwy E #110\, Houston\, TX\, 77060\, United States
END:VEVENT
BEGIN:VEVENT
DTSTART;TZID=America/Denver:20250323T080000
DTEND;TZID=America/Denver:20250323T170000
DTSTAMP:20260423T041522
CREATED:20250122T094204Z
LAST-MODIFIED:20250122T094204Z
UID:10000109-1742716800-1742749200@prepathome.com
SUMMARY:PrepAtHome Electricians Houston\, Texas
DESCRIPTION:
URL:https://prepathome.com/event/prepathome-electricians-houston-texas-13/
LOCATION:PrepAtHome 650 N Sam Houston Pkwy E\, Houston\, TX 77060\, 650 N Sam Houston Pkwy E #110\, Houston\, TX\, 77060\, United States
END:VEVENT
BEGIN:VEVENT
DTSTART;TZID=America/Denver:20250309T080000
DTEND;TZID=America/Denver:20250309T170000
DTSTAMP:20260423T041522
CREATED:20250122T094101Z
LAST-MODIFIED:20250122T094101Z
UID:10000108-1741507200-1741539600@prepathome.com
SUMMARY:PrepAtHome ACR Contractors Houston\, Texas
DESCRIPTION:
URL:https://prepathome.com/event/prepathome-acr-contractors-houston-texas-7/
LOCATION:PrepAtHome 650 N Sam Houston Pkwy E\, Houston\, TX 77060\, 650 N Sam Houston Pkwy E #110\, Houston\, TX\, 77060\, United States
END:VEVENT
BEGIN:VEVENT
DTSTART;TZID=America/Denver:20250308T080000
DTEND;TZID=America/Denver:20250308T170000
DTSTAMP:20260423T041522
CREATED:20250122T094016Z
LAST-MODIFIED:20250122T094016Z
UID:10000107-1741420800-1741453200@prepathome.com
SUMMARY:PrepAtHome Electricians Houston\, Texas
DESCRIPTION:
URL:https://prepathome.com/event/prepathome-electricians-houston-texas-12/
LOCATION:PrepAtHome 650 N Sam Houston Pkwy E\, Houston\, TX 77060\, 650 N Sam Houston Pkwy E #110\, Houston\, TX\, 77060\, United States
END:VEVENT
BEGIN:VEVENT
DTSTART;TZID=America/Denver:20250216T080000
DTEND;TZID=America/Denver:20250216T170000
DTSTAMP:20260423T041522
CREATED:20250121T195034Z
LAST-MODIFIED:20250121T195034Z
UID:10000099-1739692800-1739725200@prepathome.com
SUMMARY:PrepAtHome Electricians Houston\, Texas
DESCRIPTION:
URL:https://prepathome.com/event/prepathome-electricians-houston-texas-8/
LOCATION:PrepAtHome 650 N Sam Houston Pkwy E\, Houston\, TX 77060\, 650 N Sam Houston Pkwy E #110\, Houston\, TX\, 77060\, United States
END:VEVENT
BEGIN:VEVENT
DTSTART;TZID=America/Denver:20250202T080000
DTEND;TZID=America/Denver:20250202T170000
DTSTAMP:20260423T041522
CREATED:20250121T194447Z
LAST-MODIFIED:20250121T194447Z
UID:10000098-1738483200-1738515600@prepathome.com
SUMMARY:PrepAtHome ACR Contractors Houston\, Texas
DESCRIPTION:
URL:https://prepathome.com/event/prepathome-acr-contractors-houston-texas-5/
LOCATION:PrepAtHome 650 N Sam Houston Pkwy E\, Houston\, TX 77060\, 650 N Sam Houston Pkwy E #110\, Houston\, TX\, 77060\, United States
END:VEVENT
BEGIN:VEVENT
DTSTART;TZID=America/Denver:20250201T080000
DTEND;TZID=America/Denver:20250201T170000
DTSTAMP:20260423T041522
CREATED:20250121T194353Z
LAST-MODIFIED:20250121T194353Z
UID:10000097-1738396800-1738429200@prepathome.com
SUMMARY:PrepAtHome Electricians Houston\, Texas
DESCRIPTION:
URL:https://prepathome.com/event/prepathome-electricians-houston-texas-7/
LOCATION:PrepAtHome 650 N Sam Houston Pkwy E\, Houston\, TX 77060\, 650 N Sam Houston Pkwy E #110\, Houston\, TX\, 77060\, United States
END:VEVENT
BEGIN:VEVENT
DTSTART;TZID=America/Denver:20241215T080000
DTEND;TZID=America/Denver:20241215T170000
DTSTAMP:20260423T041522
CREATED:20241120T174350Z
LAST-MODIFIED:20241120T174350Z
UID:10000081-1734249600-1734282000@prepathome.com
SUMMARY:PrepAtHome Electricians Houston\, Texas
DESCRIPTION:
URL:https://prepathome.com/event/prepathome-electricians-houston-texas-11/
LOCATION:PrepAtHome 650 N Sam Houston Pkwy E\, Houston\, TX 77060\, 650 N Sam Houston Pkwy E #110\, Houston\, TX\, 77060\, United States
END:VEVENT
BEGIN:VEVENT
DTSTART;TZID=America/Denver:20241208T080000
DTEND;TZID=America/Denver:20241208T170000
DTSTAMP:20260423T041522
CREATED:20241120T174142Z
LAST-MODIFIED:20241120T174243Z
UID:10000080-1733644800-1733677200@prepathome.com
SUMMARY:PrepAtHome ACR Contractors Houston\, Texas
DESCRIPTION:
URL:https://prepathome.com/event/prepathome-acr-contractors-houston-texas-6/
LOCATION:PrepAtHome 650 N Sam Houston Pkwy E\, Houston\, TX 77060\, 650 N Sam Houston Pkwy E #110\, Houston\, TX\, 77060\, United States
END:VEVENT
BEGIN:VEVENT
DTSTART;TZID=America/Denver:20241207T080000
DTEND;TZID=America/Denver:20241207T170000
DTSTAMP:20260423T041522
CREATED:20241120T174042Z
LAST-MODIFIED:20241120T174042Z
UID:10000079-1733558400-1733590800@prepathome.com
SUMMARY:PrepAtHome Electricians Houston\, Texas
DESCRIPTION:
URL:https://prepathome.com/event/prepathome-electricians-houston-texas-10/
LOCATION:PrepAtHome 650 N Sam Houston Pkwy E\, Houston\, TX 77060\, 650 N Sam Houston Pkwy E #110\, Houston\, TX\, 77060\, United States
END:VEVENT
BEGIN:VEVENT
DTSTART;TZID=America/Denver:20241124T080000
DTEND;TZID=America/Denver:20241124T170000
DTSTAMP:20260423T041522
CREATED:20241120T173941Z
LAST-MODIFIED:20241120T173941Z
UID:10000078-1732435200-1732467600@prepathome.com
SUMMARY:PrepAtHome Electricians Houston\, Texas
DESCRIPTION:
URL:https://prepathome.com/event/prepathome-electricians-houston-texas-9/
LOCATION:PrepAtHome 650 N Sam Houston Pkwy E\, Houston\, TX 77060\, 650 N Sam Houston Pkwy E #110\, Houston\, TX\, 77060\, United States
END:VEVENT
BEGIN:VEVENT
DTSTART;TZID=America/Denver:20241110T080000
DTEND;TZID=America/Denver:20241110T170000
DTSTAMP:20260423T041522
CREATED:20240815T100939Z
LAST-MODIFIED:20240815T100939Z
UID:10000025-1731225600-1731258000@prepathome.com
SUMMARY:PrepAtHome ACR Contractors Houston\, Texas
DESCRIPTION:
URL:https://prepathome.com/event/prepathome-acr-contractors-houston-texas-4/
LOCATION:PrepAtHome 650 N Sam Houston Pkwy E\, Houston\, TX 77060\, 650 N Sam Houston Pkwy E #110\, Houston\, TX\, 77060\, United States
END:VEVENT
BEGIN:VEVENT
DTSTART;TZID=America/Denver:20241109T080000
DTEND;TZID=America/Denver:20241109T170000
DTSTAMP:20260423T041522
CREATED:20240815T100718Z
LAST-MODIFIED:20240815T100718Z
UID:10000024-1731139200-1731171600@prepathome.com
SUMMARY:PrepAtHome Electricians Houston\, Texas
DESCRIPTION:
URL:https://prepathome.com/event/prepathome-electricians-houston-texas-6/
LOCATION:PrepAtHome 650 N Sam Houston Pkwy E\, Houston\, TX 77060\, 650 N Sam Houston Pkwy E #110\, Houston\, TX\, 77060\, United States
END:VEVENT
BEGIN:VEVENT
DTSTART;TZID=America/Denver:20241027T080000
DTEND;TZID=America/Denver:20241027T170000
DTSTAMP:20260423T041522
CREATED:20240815T100624Z
LAST-MODIFIED:20240815T100624Z
UID:10000023-1730016000-1730048400@prepathome.com
SUMMARY:PrepAtHome Electricians Houston\, Texas
DESCRIPTION:
URL:https://prepathome.com/event/prepathome-electricians-houston-texas-5/
LOCATION:PrepAtHome 650 N Sam Houston Pkwy E\, Houston\, TX 77060\, 650 N Sam Houston Pkwy E #110\, Houston\, TX\, 77060\, United States
END:VEVENT
BEGIN:VEVENT
DTSTART;TZID=America/Denver:20241013T080000
DTEND;TZID=America/Denver:20241013T170000
DTSTAMP:20260423T041522
CREATED:20240815T100537Z
LAST-MODIFIED:20240815T100537Z
UID:10000022-1728806400-1728838800@prepathome.com
SUMMARY:PrepAtHome ACR Contractors Houston\, Texas
DESCRIPTION:
URL:https://prepathome.com/event/prepathome-acr-contractors-houston-texas-3/
LOCATION:PrepAtHome 650 N Sam Houston Pkwy E\, Houston\, TX 77060\, 650 N Sam Houston Pkwy E #110\, Houston\, TX\, 77060\, United States
END:VEVENT
BEGIN:VEVENT
DTSTART;TZID=America/Denver:20241012T080000
DTEND;TZID=America/Denver:20241012T170000
DTSTAMP:20260423T041522
CREATED:20240815T100412Z
LAST-MODIFIED:20240815T100412Z
UID:10000021-1728720000-1728752400@prepathome.com
SUMMARY:PrepAtHome Electricians Houston\, Texas
DESCRIPTION:
URL:https://prepathome.com/event/prepathome-electricians-houston-texas-4/
LOCATION:PrepAtHome 650 N Sam Houston Pkwy E\, Houston\, TX 77060\, 650 N Sam Houston Pkwy E #110\, Houston\, TX\, 77060\, United States
END:VEVENT
BEGIN:VEVENT
DTSTART;TZID=America/Denver:20240929T080000
DTEND;TZID=America/Denver:20240929T170000
DTSTAMP:20260423T041522
CREATED:20240815T100153Z
LAST-MODIFIED:20240815T100327Z
UID:10000020-1727596800-1727629200@prepathome.com
SUMMARY:PrepAtHome Electricians Houston\, Texas
DESCRIPTION:
URL:https://prepathome.com/event/prepathome-electricians-houston-texas-3/
LOCATION:PrepAtHome 650 N Sam Houston Pkwy E\, Houston\, TX 77060\, 650 N Sam Houston Pkwy E #110\, Houston\, TX\, 77060\, United States
END:VEVENT
BEGIN:VEVENT
DTSTART;TZID=America/Denver:20240908T080000
DTEND;TZID=America/Denver:20240908T170000
DTSTAMP:20260423T041522
CREATED:20240815T100108Z
LAST-MODIFIED:20240815T100108Z
UID:10000019-1725782400-1725814800@prepathome.com
SUMMARY:PrepAtHome ACR Contractors Houston\, Texas
DESCRIPTION:
URL:https://prepathome.com/event/prepathome-acr-contractors-houston-texas-2/
LOCATION:PrepAtHome 650 N Sam Houston Pkwy E\, Houston\, TX 77060\, 650 N Sam Houston Pkwy E #110\, Houston\, TX\, 77060\, United States
END:VEVENT
BEGIN:VEVENT
DTSTART;TZID=America/Denver:20240907T080000
DTEND;TZID=America/Denver:20240907T170000
DTSTAMP:20260423T041522
CREATED:20240815T095944Z
LAST-MODIFIED:20240815T095944Z
UID:10000018-1725696000-1725728400@prepathome.com
SUMMARY:PrepAtHome Electricians Houston\, Texas
DESCRIPTION:
URL:https://prepathome.com/event/prepathome-electricians-houston-texas-2/
LOCATION:PrepAtHome 650 N Sam Houston Pkwy E\, Houston\, TX 77060\, 650 N Sam Houston Pkwy E #110\, Houston\, TX\, 77060\, United States
END:VEVENT
BEGIN:VEVENT
DTSTART;TZID=America/Denver:20240818T080000
DTEND;TZID=America/Denver:20240818T170000
DTSTAMP:20260423T041522
CREATED:20240815T095716Z
LAST-MODIFIED:20240815T095716Z
UID:10000017-1723968000-1724000400@prepathome.com
SUMMARY:PrepAtHome ACR Contractors Houston\, Texas
DESCRIPTION:
URL:https://prepathome.com/event/prepathome-acr-contractors-houston-texas/
LOCATION:PrepAtHome 650 N Sam Houston Pkwy E\, Houston\, TX 77060\, 650 N Sam Houston Pkwy E #110\, Houston\, TX\, 77060\, United States
END:VEVENT
BEGIN:VEVENT
DTSTART;TZID=America/Denver:20240817T080000
DTEND;TZID=America/Denver:20240817T170000
DTSTAMP:20260423T041522
CREATED:20240815T095457Z
LAST-MODIFIED:20240815T095528Z
UID:10000016-1723881600-1723914000@prepathome.com
SUMMARY:PrepAtHome Electricians Houston\, Texas
DESCRIPTION:
URL:https://prepathome.com/event/prepathome-electricians-houston-texas/
LOCATION:PrepAtHome 650 N Sam Houston Pkwy E\, Houston\, TX 77060\, 650 N Sam Houston Pkwy E #110\, Houston\, TX\, 77060\, United States
END:VEVENT
END:VCALENDAR