BEGIN:VCALENDAR
VERSION:2.0
PRODID:-//Prep At Home LLC - ECPv6.15.20//NONSGML v1.0//EN
CALSCALE:GREGORIAN
METHOD:PUBLISH
X-ORIGINAL-URL:https://prepathome.com
X-WR-CALDESC:Events for Prep At Home LLC
REFRESH-INTERVAL;VALUE=DURATION:PT1H
X-Robots-Tag:noindex
X-PUBLISHED-TTL:PT1H
BEGIN:VTIMEZONE
TZID:America/Denver
BEGIN:DAYLIGHT
TZOFFSETFROM:-0700
TZOFFSETTO:-0600
TZNAME:MDT
DTSTART:20230312T090000
END:DAYLIGHT
BEGIN:STANDARD
TZOFFSETFROM:-0600
TZOFFSETTO:-0700
TZNAME:MST
DTSTART:20231105T080000
END:STANDARD
BEGIN:DAYLIGHT
TZOFFSETFROM:-0700
TZOFFSETTO:-0600
TZNAME:MDT
DTSTART:20240310T090000
END:DAYLIGHT
BEGIN:STANDARD
TZOFFSETFROM:-0600
TZOFFSETTO:-0700
TZNAME:MST
DTSTART:20241103T080000
END:STANDARD
BEGIN:DAYLIGHT
TZOFFSETFROM:-0700
TZOFFSETTO:-0600
TZNAME:MDT
DTSTART:20250309T090000
END:DAYLIGHT
BEGIN:STANDARD
TZOFFSETFROM:-0600
TZOFFSETTO:-0700
TZNAME:MST
DTSTART:20251102T080000
END:STANDARD
END:VTIMEZONE
BEGIN:VEVENT
DTSTART;TZID=America/Denver:20240810T080000
DTEND;TZID=America/Denver:20240811T170000
DTSTAMP:20260425T082537
CREATED:20240815T093044Z
LAST-MODIFIED:20240815T093044Z
UID:10000005-1723276800-1723395600@prepathome.com
SUMMARY:PrepAtHome OKC\, Oklahoma
DESCRIPTION:
URL:https://prepathome.com/event/prepathome-okc-oklahoma/
LOCATION:PrepAtHome 9300 S Pennsylvania Ave\, Oklahoma City\, OK 73159\, 9300 S Pennsylvania Ave #G\, Oklahoma City\, OK\, 73159\, United States
END:VEVENT
BEGIN:VEVENT
DTSTART;TZID=America/Denver:20240817T080000
DTEND;TZID=America/Denver:20240817T170000
DTSTAMP:20260425T082537
CREATED:20240815T092641Z
LAST-MODIFIED:20240815T092641Z
UID:10000003-1723881600-1723914000@prepathome.com
SUMMARY:PrepAtHome  Bixby\, Oklahoma
DESCRIPTION:
URL:https://prepathome.com/event/prepathome-bixby-oklahoma/
LOCATION:PrepAtHome 12800 S Memorial Dr #C Bixby\, OK 74008\, 12800 S Memorial Dr #C Bixby\, OK 74008\, Bixby\, OK\, United States
END:VEVENT
BEGIN:VEVENT
DTSTART;TZID=America/Denver:20240817T080000
DTEND;TZID=America/Denver:20240817T170000
DTSTAMP:20260425T082537
CREATED:20240815T095457Z
LAST-MODIFIED:20240815T095528Z
UID:10000016-1723881600-1723914000@prepathome.com
SUMMARY:PrepAtHome Electricians Houston\, Texas
DESCRIPTION:
URL:https://prepathome.com/event/prepathome-electricians-houston-texas/
LOCATION:PrepAtHome 650 N Sam Houston Pkwy E\, Houston\, TX 77060\, 650 N Sam Houston Pkwy E #110\, Houston\, TX\, 77060\, United States
END:VEVENT
BEGIN:VEVENT
DTSTART;TZID=America/Denver:20240818T080000
DTEND;TZID=America/Denver:20240818T170000
DTSTAMP:20260425T082537
CREATED:20240815T095716Z
LAST-MODIFIED:20240815T095716Z
UID:10000017-1723968000-1724000400@prepathome.com
SUMMARY:PrepAtHome ACR Contractors Houston\, Texas
DESCRIPTION:
URL:https://prepathome.com/event/prepathome-acr-contractors-houston-texas/
LOCATION:PrepAtHome 650 N Sam Houston Pkwy E\, Houston\, TX 77060\, 650 N Sam Houston Pkwy E #110\, Houston\, TX\, 77060\, United States
END:VEVENT
BEGIN:VEVENT
DTSTART;TZID=America/Denver:20240824T080000
DTEND;TZID=America/Denver:20240824T170000
DTSTAMP:20260425T082537
CREATED:20240815T102527Z
LAST-MODIFIED:20240815T102527Z
UID:10000030-1724486400-1724518800@prepathome.com
SUMMARY:PrepAtHome Electricians San Marcos & McAllen\, Texas
DESCRIPTION:
URL:https://prepathome.com/event/prepathome-electricians-san-marcos-mcallen-texas/
LOCATION:PrepAtHome 101 Uhland Rd\, San Marcos\, TX 78666\, 101 Uhland Rd Suite 215\, San Marcos\, TX\, 78666\, United States
END:VEVENT
BEGIN:VEVENT
DTSTART;TZID=America/Denver:20240824T080000
DTEND;TZID=America/Denver:20240825T170000
DTSTAMP:20260425T082537
CREATED:20240815T093123Z
LAST-MODIFIED:20240815T093228Z
UID:10000006-1724486400-1724605200@prepathome.com
SUMMARY:PrepAtHome OKC\, Oklahoma
DESCRIPTION:
URL:https://prepathome.com/event/prepathome-okc-oklahoma-2/
LOCATION:PrepAtHome 9300 S Pennsylvania Ave\, Oklahoma City\, OK 73159\, 9300 S Pennsylvania Ave #G\, Oklahoma City\, OK\, 73159\, United States
END:VEVENT
BEGIN:VEVENT
DTSTART;TZID=America/Denver:20240825T080000
DTEND;TZID=America/Denver:20240825T170000
DTSTAMP:20260425T082537
CREATED:20240815T102617Z
LAST-MODIFIED:20250106T142958Z
UID:10000031-1724572800-1724605200@prepathome.com
SUMMARY:PrepAtHome ACR Contractors San Marcos & McAllen\, Texas
DESCRIPTION:
URL:https://prepathome.com/event/prepathome-acr-contractors-san-marcos-mcallen-texas/
LOCATION:PrepAtHome 101 Uhland Rd\, San Marcos\, TX 78666\, 101 Uhland Rd Suite 215\, San Marcos\, TX\, 78666\, United States
END:VEVENT
BEGIN:VEVENT
DTSTART;TZID=America/Denver:20240831T000000
DTEND;TZID=America/Denver:20240831T000000
DTSTAMP:20260425T082537
CREATED:20240924T175618Z
LAST-MODIFIED:20240924T175618Z
UID:10000067-1725062400-1725062400@prepathome.com
SUMMARY:PrepAtHome Electricians Midland & Lubbock\, Texas
DESCRIPTION:
URL:https://prepathome.com/event/prepathome-electricians-midland-lubbock-texas-2/
LOCATION:Midland & Lubbock\, Texas\, TX\, United States
END:VEVENT
BEGIN:VEVENT
DTSTART;TZID=America/Denver:20240831T080000
DTEND;TZID=America/Denver:20240831T170000
DTSTAMP:20260425T082537
CREATED:20240815T092814Z
LAST-MODIFIED:20241002T095613Z
UID:10000004-1725091200-1725123600@prepathome.com
SUMMARY:PrepAtHome Bixby\, Oklahoma
DESCRIPTION:
URL:https://prepathome.com/event/prepathome-bixby-oklahoma-2/
LOCATION:PrepAtHome 12800 S Memorial Dr #C Bixby\, OK 74008\, 12800 S Memorial Dr #C Bixby\, OK 74008\, Bixby\, OK\, United States
END:VEVENT
BEGIN:VEVENT
DTSTART;TZID=America/Denver:20240831T080000
DTEND;TZID=America/Denver:20240901T170000
DTSTAMP:20260425T082537
CREATED:20240815T093311Z
LAST-MODIFIED:20240815T093311Z
UID:10000007-1725091200-1725210000@prepathome.com
SUMMARY:PrepAtHome OKC\, Oklahoma
DESCRIPTION:
URL:https://prepathome.com/event/prepathome-okc-oklahoma-3/
LOCATION:PrepAtHome 9300 S Pennsylvania Ave\, Oklahoma City\, OK 73159\, 9300 S Pennsylvania Ave #G\, Oklahoma City\, OK\, 73159\, United States
END:VEVENT
END:VCALENDAR